BEGIN:VCALENDAR
VERSION:2.0
PRODID:-//TSVÖ - Tauchsportverband Österreichs - ECPv6.15.20//NONSGML v1.0//EN
CALSCALE:GREGORIAN
METHOD:PUBLISH
X-WR-CALNAME:TSVÖ - Tauchsportverband Österreichs
X-ORIGINAL-URL:https://www.tsvoe.at
X-WR-CALDESC:Veranstaltungen für TSVÖ - Tauchsportverband Österreichs
REFRESH-INTERVAL;VALUE=DURATION:PT1H
X-Robots-Tag:noindex
X-PUBLISHED-TTL:PT1H
BEGIN:VTIMEZONE
TZID:Europe/Helsinki
BEGIN:DAYLIGHT
TZOFFSETFROM:+0200
TZOFFSETTO:+0300
TZNAME:EEST
DTSTART:20250330T010000
END:DAYLIGHT
BEGIN:STANDARD
TZOFFSETFROM:+0300
TZOFFSETTO:+0200
TZNAME:EET
DTSTART:20251026T010000
END:STANDARD
BEGIN:DAYLIGHT
TZOFFSETFROM:+0200
TZOFFSETTO:+0300
TZNAME:EEST
DTSTART:20260329T010000
END:DAYLIGHT
BEGIN:STANDARD
TZOFFSETFROM:+0300
TZOFFSETTO:+0200
TZNAME:EET
DTSTART:20261025T010000
END:STANDARD
BEGIN:DAYLIGHT
TZOFFSETFROM:+0200
TZOFFSETTO:+0300
TZNAME:EEST
DTSTART:20270328T010000
END:DAYLIGHT
BEGIN:STANDARD
TZOFFSETFROM:+0300
TZOFFSETTO:+0200
TZNAME:EET
DTSTART:20271031T010000
END:STANDARD
END:VTIMEZONE
BEGIN:VEVENT
DTSTART;TZID=Europe/Helsinki:20260425T100000
DTEND;TZID=Europe/Helsinki:20260425T140000
DTSTAMP:20260420T055347
CREATED:20260415T115312Z
LAST-MODIFIED:20260415T115958Z
UID:261340-1777111200-1777125600@www.tsvoe.at
SUMMARY:Generalversammlung TSVÖ 2026
DESCRIPTION:Generalversammlung TSVÖ 2026 \nLamm Hotel • Restaurant • Café\, Mehrerauerstraße 51\, A-6900 Bregenz\, Austria \nAnfahrtslink für Google Maps
URL:https://www.tsvoe.at/event/generalversammlung-tsvoe-2026/
CATEGORIES:Verband
ATTACH;FMTTYPE=image/jpeg:https://www.tsvoe.at/wp-content/uploads/2026/03/TSVOE_TL_Tagung_2026_4.jpeg
END:VEVENT
END:VCALENDAR